BEGIN:VCALENDAR
VERSION:2.0
PRODID:-// Student Housing Australia iCal
METHOD:PUBLISH
BEGIN:VEVENT
DTSTART:20200229T161500

DTEND:20200229T164500
DTSTAMP:20260424T16274600

DESCRIPTION:Ofi for 58 Douglas Street, Noble Park
LOCATION:58 Douglas Street, Noble Park, VIC, 3174
SUMMARY:Ofi for 58 Douglas Street, Noble Park hosted by Student Housing Australia
CATEGORIES:APPOINTMENT
CLASS:PUBLIC
BEGIN:VALARM
TRIGGER:-PT1H
ACTION:DISPLAY
DESCRIPTION:Reminder
END:VALARM
END:VEVENT
END:VCALENDAR