BEGIN:VCALENDAR
VERSION:2.0
PRODID:-// Student Housing Australia iCal
METHOD:PUBLISH
BEGIN:VEVENT
DTSTART:20260424T105000

DTEND:20260424T112000
DTSTAMP:20260422T19384400

DESCRIPTION:Ofi for 133 Droop Street, Footscray
LOCATION:133 Droop Street, Footscray, VIC, 3011
SUMMARY:Ofi for 133 Droop Street, Footscray hosted by Student Housing Australia
CATEGORIES:APPOINTMENT
CLASS:PUBLIC
BEGIN:VALARM
TRIGGER:-PT1H
ACTION:DISPLAY
DESCRIPTION:Reminder
END:VALARM
END:VEVENT
END:VCALENDAR