BEGIN:VCALENDAR
VERSION:2.0
PRODID:-// Student Housing Australia iCal
METHOD:PUBLISH
BEGIN:VEVENT
DTSTART:20200229T114000

DTEND:20200229T120000
DTSTAMP:20260424T16442000

DESCRIPTION:Ofi for 32 St Edmonds Road, Prahran
LOCATION:32 St Edmonds Road, Prahran, VIC, 3181
SUMMARY:Ofi for 32 St Edmonds Road, Prahran hosted by Student Housing Australia
CATEGORIES:APPOINTMENT
CLASS:PUBLIC
BEGIN:VALARM
TRIGGER:-PT1H
ACTION:DISPLAY
DESCRIPTION:Reminder
END:VALARM
END:VEVENT
END:VCALENDAR