BEGIN:VCALENDAR
VERSION:2.0
PRODID:-// Student Housing Australia iCal
METHOD:PUBLISH
BEGIN:VEVENT
DTSTART:20200302T140000

DTEND:20200302T143000
DTSTAMP:20260424T16003600

DESCRIPTION:Ofi for 224 Burwood Highway, Burwood
LOCATION:224 Burwood Highway, Burwood, VIC, 3125
SUMMARY:Ofi for 224 Burwood Highway, Burwood hosted by Student Housing Australia
CATEGORIES:APPOINTMENT
CLASS:PUBLIC
BEGIN:VALARM
TRIGGER:-PT1H
ACTION:DISPLAY
DESCRIPTION:Reminder
END:VALARM
END:VEVENT
END:VCALENDAR