BEGIN:VCALENDAR
VERSION:2.0
PRODID:-// Student Housing Australia iCal
METHOD:PUBLISH
BEGIN:VEVENT
DTSTART:20260424T102500

DTEND:20260424T104000
DTSTAMP:20260423T15452500

DESCRIPTION:Ofi for 8 Porter Street, Prahran
LOCATION:8 Porter Street, Prahran, VIC, 3181
SUMMARY:Ofi for 8 Porter Street, Prahran hosted by Student Housing Australia
CATEGORIES:APPOINTMENT
CLASS:PUBLIC
BEGIN:VALARM
TRIGGER:-PT1H
ACTION:DISPLAY
DESCRIPTION:Reminder
END:VALARM
END:VEVENT
END:VCALENDAR