BEGIN:VCALENDAR
VERSION:2.0
PRODID:-// Student Housing Australia iCal
METHOD:PUBLISH
BEGIN:VEVENT
DTSTART:20200229T120500

DTEND:20200229T123000
DTSTAMP:20260424T16245500

DESCRIPTION:Ofi for 17 Macquarie Street, Prahran
LOCATION:17 Macquarie Street, Prahran, VIC, 3181
SUMMARY:Ofi for 17 Macquarie Street, Prahran hosted by Student Housing Australia
CATEGORIES:APPOINTMENT
CLASS:PUBLIC
BEGIN:VALARM
TRIGGER:-PT1H
ACTION:DISPLAY
DESCRIPTION:Reminder
END:VALARM
END:VEVENT
END:VCALENDAR